BEGIN:VCALENDAR
VERSION:2.0
PRODID:spatie/icalendar-generator
DESCRIPTION:大和市鶴間駅前の歯医者つるま歯科医院/イン
 プラント専門医・日本歯周病学会認定医・日本矯正歯
 科学会認定医在籍のイベント
X-WR-CALDESC:大和市鶴間駅前の歯医者つるま歯科医院/イン
 プラント専門医・日本歯周病学会認定医・日本矯正歯
 科学会認定医在籍のイベント
REFRESH-INTERVAL;VALUE=DURATION:PT1440M
X-PUBLISHED-TTL:PT1440M
BEGIN:VTIMEZONE
TZID:Asia/Tokyo
BEGIN:STANDARD
DTSTART:20210917T000000Z
TZOFFSETFROM:+0900
TZOFFSETTO:+0900
END:STANDARD
END:VTIMEZONE
BEGIN:VTIMEZONE
TZID:UTC
BEGIN:STANDARD
DTSTART:20250725T090224Z
TZOFFSETFROM:+0000
TZOFFSETTO:+0000
END:STANDARD
END:VTIMEZONE
BEGIN:VEVENT
UID:37-3
DTSTAMP:20260421T090224Z
SUMMARY:有村
LOCATION:
ORGANIZER;CN=trmdc_admin:MAILTO:vtry.newcoding@gmail.com
RRULE:FREQ=DAILY;BYDAY=MO,TU,WE,TH,FR;UNTIL=20220630T000000Z
DTSTART;TZID=Asia/Tokyo:20220614T000000
DTEND;TZID=Asia/Tokyo:20220614T010000
X-ALT-DESC;FMTTYPE=TEXT/HTML:
CATEGORIES:有村
URL;VALUE=URI:https://www.trmdc.com/mc-events/%e6%9c%89%e6%9d%91/?mc_id=37
METHOD:PUBLISH
END:VEVENT
END:VCALENDAR