BEGIN:VCALENDAR
VERSION:2.0
PRODID:spatie/icalendar-generator
DESCRIPTION:大和市鶴間駅前の歯医者つるま歯科医院/イン
 プラント専門医・日本歯周病学会認定医・日本矯正歯
 科学会認定医在籍のイベント
X-WR-CALDESC:大和市鶴間駅前の歯医者つるま歯科医院/イン
 プラント専門医・日本歯周病学会認定医・日本矯正歯
 科学会認定医在籍のイベント
REFRESH-INTERVAL;VALUE=DURATION:PT1440M
X-PUBLISHED-TTL:PT1440M
BEGIN:VTIMEZONE
TZID:Asia/Tokyo
BEGIN:STANDARD
DTSTART:20210917T143000Z
TZOFFSETFROM:+0900
TZOFFSETTO:+0900
END:STANDARD
END:VTIMEZONE
BEGIN:VTIMEZONE
TZID:UTC
BEGIN:STANDARD
DTSTART:20250724T081017Z
TZOFFSETFROM:+0000
TZOFFSETTO:+0000
END:STANDARD
END:VTIMEZONE
BEGIN:VEVENT
UID:54-4
DTSTAMP:20260420T081017Z
SUMMARY:院長・有村
LOCATION:
ORGANIZER;CN=trmdc_admin:MAILTO:vtry.newcoding@gmail.com
RRULE:FREQ=DAILY;BYDAY=MO,TU,WE,TH,FR;UNTIL=20220629T000000Z
DTSTART;TZID=Asia/Tokyo:20220614T143000
DTEND;TZID=Asia/Tokyo:20220614T170000
X-ALT-DESC;FMTTYPE=TEXT/HTML:
CATEGORIES:院長・有村
URL;VALUE=URI:https://www.trmdc.com/mc-events/%e9%99%a2%e9%95%b7%e3%83%bb%e
 6%9c%89%e6%9d%91/?mc_id=54
METHOD:PUBLISH
END:VEVENT
END:VCALENDAR